BEGIN:VCALENDAR
VERSION:2.0
PRODID:-//Rock 702 Band - ECPv6.15.18//NONSGML v1.0//EN
CALSCALE:GREGORIAN
METHOD:PUBLISH
X-WR-CALNAME:Rock 702 Band
X-ORIGINAL-URL:https://tommydrock702.com
X-WR-CALDESC:Events for Rock 702 Band
REFRESH-INTERVAL;VALUE=DURATION:PT1H
X-Robots-Tag:noindex
X-PUBLISHED-TTL:PT1H
BEGIN:VTIMEZONE
TZID:America/Los_Angeles
BEGIN:DAYLIGHT
TZOFFSETFROM:-0800
TZOFFSETTO:-0700
TZNAME:PDT
DTSTART:20230312T100000
END:DAYLIGHT
BEGIN:STANDARD
TZOFFSETFROM:-0700
TZOFFSETTO:-0800
TZNAME:PST
DTSTART:20231105T090000
END:STANDARD
BEGIN:DAYLIGHT
TZOFFSETFROM:-0800
TZOFFSETTO:-0700
TZNAME:PDT
DTSTART:20240310T100000
END:DAYLIGHT
BEGIN:STANDARD
TZOFFSETFROM:-0700
TZOFFSETTO:-0800
TZNAME:PST
DTSTART:20241103T090000
END:STANDARD
BEGIN:DAYLIGHT
TZOFFSETFROM:-0800
TZOFFSETTO:-0700
TZNAME:PDT
DTSTART:20250309T100000
END:DAYLIGHT
BEGIN:STANDARD
TZOFFSETFROM:-0700
TZOFFSETTO:-0800
TZNAME:PST
DTSTART:20251102T090000
END:STANDARD
END:VTIMEZONE
BEGIN:VEVENT
DTSTART;TZID=America/Los_Angeles:20241004T210000
DTEND;TZID=America/Los_Angeles:20241005T010000
DTSTAMP:20260422T093540
CREATED:20240920T005216Z
LAST-MODIFIED:20240920T005216Z
UID:806-1728075600-1728090000@tommydrock702.com
SUMMARY:Tommy D Birthday Bash As Rock 702 Performs At The Rush Lounge Inside The Golden Nugget
DESCRIPTION:It will be a big birthday bash as we celebrate the birthday of our band leader\, Tommy D!\nJoin us at The Golden Nugget on Friday\, October 4th\, 9 pm – 1 am!\n 
URL:https://tommydrock702.com/event/tommy-d-birthday-bash-as-rock-702-performs-at-the-rush-lounge-inside-the-golden-nugget/
LOCATION:The Golden Nugget\, 129 Fremont Street\, Las Vegas\, Nevada\, 89101
CATEGORIES:Live Music,Rock 702 Band
ATTACH;FMTTYPE=image/jpeg:https://tommydrock702.com/wp-content/uploads/2024/03/a-37-scaled.jpg
END:VEVENT
BEGIN:VEVENT
DTSTART;TZID=America/Los_Angeles:20241019T080000
DTEND;TZID=America/Los_Angeles:20241019T170000
DTSTAMP:20260422T093540
CREATED:20240920T005636Z
LAST-MODIFIED:20240920T005636Z
UID:808-1729324800-1729357200@tommydrock702.com
SUMMARY:Rock 702 Performs at Resorts World For A Private Event
DESCRIPTION:Rock 702 will be performing a private corporate event at Resorts World on October 19th!\n 
URL:https://tommydrock702.com/event/rock-702-performs-at-resorts-world-for-a-private-event/
LOCATION:Nevada
ATTACH;FMTTYPE=image/jpeg:https://tommydrock702.com/wp-content/uploads/2024/09/original_Resorts-World-Las-Vegas-Exterior-new_5BCB5D9E-DA43-265A-E1918DA4FFBFC018-5bcb5857c47859d.jpg
END:VEVENT
BEGIN:VEVENT
DTSTART;TZID=America/Los_Angeles:20241026T210000
DTEND;TZID=America/Los_Angeles:20241027T010000
DTSTAMP:20260422T093540
CREATED:20240920T010043Z
LAST-MODIFIED:20240920T010058Z
UID:811-1729976400-1729990800@tommydrock702.com
SUMMARY:Rock 702 at the Rush Lounge inside the Golden Nugget
DESCRIPTION:The band is back again at the beautiful Rush Lounge\, inside the Golden Nugget Casino\, Downtown Las Vegas!\nJoin us for another fun evening on Saturday\, October 26th\, 9pm – 1am!\n 
URL:https://tommydrock702.com/event/rock-702-at-the-rush-lounge-inside-the-golden-nugget-4/
LOCATION:The Golden Nugget\, 129 Fremont Street\, Las Vegas\, Nevada\, 89101
CATEGORIES:Live Music,Rock 702 Band
ATTACH;FMTTYPE=image/jpeg:https://tommydrock702.com/wp-content/uploads/2024/03/a-20-scaled.jpg
END:VEVENT
END:VCALENDAR