BEGIN:VCALENDAR
VERSION:2.0
PRODID:-//Rock 702 Band - ECPv6.15.18//NONSGML v1.0//EN
CALSCALE:GREGORIAN
METHOD:PUBLISH
X-ORIGINAL-URL:https://tommydrock702.com
X-WR-CALDESC:Events for Rock 702 Band
REFRESH-INTERVAL;VALUE=DURATION:PT1H
X-Robots-Tag:noindex
X-PUBLISHED-TTL:PT1H
BEGIN:VTIMEZONE
TZID:America/Los_Angeles
BEGIN:DAYLIGHT
TZOFFSETFROM:-0800
TZOFFSETTO:-0700
TZNAME:PDT
DTSTART:20230312T100000
END:DAYLIGHT
BEGIN:STANDARD
TZOFFSETFROM:-0700
TZOFFSETTO:-0800
TZNAME:PST
DTSTART:20231105T090000
END:STANDARD
BEGIN:DAYLIGHT
TZOFFSETFROM:-0800
TZOFFSETTO:-0700
TZNAME:PDT
DTSTART:20240310T100000
END:DAYLIGHT
BEGIN:STANDARD
TZOFFSETFROM:-0700
TZOFFSETTO:-0800
TZNAME:PST
DTSTART:20241103T090000
END:STANDARD
BEGIN:DAYLIGHT
TZOFFSETFROM:-0800
TZOFFSETTO:-0700
TZNAME:PDT
DTSTART:20250309T100000
END:DAYLIGHT
BEGIN:STANDARD
TZOFFSETFROM:-0700
TZOFFSETTO:-0800
TZNAME:PST
DTSTART:20251102T090000
END:STANDARD
END:VTIMEZONE
BEGIN:VEVENT
DTSTART;TZID=America/Los_Angeles:20240705T210000
DTEND;TZID=America/Los_Angeles:20240706T010000
DTSTAMP:20260422T135725
CREATED:20240626T020737Z
LAST-MODIFIED:20240626T020737Z
UID:770-1720213200-1720227600@tommydrock702.com
SUMMARY:An Evening With Rock 702 at The Hard Rock Mirage - Center Bar
DESCRIPTION:Join us for another evening of dancing and singing as we perform\nagain inside the Hard Rock Mirage Hotel & Casino\, Center Bar!\nFriday\, July 5th\, 2024  9:00 pm – 1:00 am\n\n 
URL:https://tommydrock702.com/event/an-evening-with-rock-702-at-the-hard-rock-mirage-center-bar/
LOCATION:Mirage Hotel\, 3400 S Las Vegas Blvd\, Las Vegas\, Nevada\, 89109
CATEGORIES:Live Music,Rock 702 Band
ATTACH;FMTTYPE=image/jpeg:https://tommydrock702.com/wp-content/uploads/2024/03/a-42-scaled.jpg
END:VEVENT
BEGIN:VEVENT
DTSTART;TZID=America/Los_Angeles:20240706T204500
DTEND;TZID=America/Los_Angeles:20240707T010000
DTSTAMP:20260422T135725
CREATED:20240626T021543Z
LAST-MODIFIED:20240626T021649Z
UID:772-1720298700-1720314000@tommydrock702.com
SUMMARY:We Are AMP'D To Perform Again Inside The M Resort At The AMP'D Lounge!
DESCRIPTION:We are back again inside the beautiful M Resort at the AMP’D Lounge!\nJoin us on Saturday\, July 6th\, 2024  8:45 pm – 1:00 am!
URL:https://tommydrock702.com/event/we-are-ampd-to-perform-again-inside-the-m-resort-at-the-ampd-lounge/
LOCATION:AMP’D Lounge M Resort\, 12300 S Las Vegas Blvd\, Henderson\, NV\, 89044\, United States
CATEGORIES:Live Music,Rock 702 Band
ATTACH;FMTTYPE=image/jpeg:https://tommydrock702.com/wp-content/uploads/2024/05/m-resort-exterior.jpg
END:VEVENT
BEGIN:VEVENT
DTSTART;TZID=America/Los_Angeles:20240720T210000
DTEND;TZID=America/Los_Angeles:20240721T010000
DTSTAMP:20260422T135725
CREATED:20240626T022051Z
LAST-MODIFIED:20240626T022051Z
UID:774-1721509200-1721523600@tommydrock702.com
SUMMARY:Rock 702 Inside The Golden Nugget At The Rush Lounge!
DESCRIPTION:We will be jamming the night away again inside the Golden Nugget at the\nRush Lounge on Saturday\, July 20th\, 2024 from 9:00 pm – 1:00 am!\n 
URL:https://tommydrock702.com/event/rock-702-inside-the-golden-nugget-at-the-rush-lounge-3/
LOCATION:The Golden Nugget\, 129 Fremont Street\, Las Vegas\, Nevada\, 89101
CATEGORIES:Live Music,Rock 702 Band
ATTACH;FMTTYPE=image/jpeg:https://tommydrock702.com/wp-content/uploads/2024/03/a-20-scaled.jpg
END:VEVENT
END:VCALENDAR