BEGIN:VCALENDAR
VERSION:2.0
PRODID:-//Rock 702 Band - ECPv6.15.18//NONSGML v1.0//EN
CALSCALE:GREGORIAN
METHOD:PUBLISH
X-WR-CALNAME:Rock 702 Band
X-ORIGINAL-URL:https://tommydrock702.com
X-WR-CALDESC:Events for Rock 702 Band
REFRESH-INTERVAL;VALUE=DURATION:PT1H
X-Robots-Tag:noindex
X-PUBLISHED-TTL:PT1H
BEGIN:VTIMEZONE
TZID:America/Los_Angeles
BEGIN:DAYLIGHT
TZOFFSETFROM:-0800
TZOFFSETTO:-0700
TZNAME:PDT
DTSTART:20240310T100000
END:DAYLIGHT
BEGIN:STANDARD
TZOFFSETFROM:-0700
TZOFFSETTO:-0800
TZNAME:PST
DTSTART:20241103T090000
END:STANDARD
BEGIN:DAYLIGHT
TZOFFSETFROM:-0800
TZOFFSETTO:-0700
TZNAME:PDT
DTSTART:20250309T100000
END:DAYLIGHT
BEGIN:STANDARD
TZOFFSETFROM:-0700
TZOFFSETTO:-0800
TZNAME:PST
DTSTART:20251102T090000
END:STANDARD
BEGIN:DAYLIGHT
TZOFFSETFROM:-0800
TZOFFSETTO:-0700
TZNAME:PDT
DTSTART:20260308T100000
END:DAYLIGHT
BEGIN:STANDARD
TZOFFSETFROM:-0700
TZOFFSETTO:-0800
TZNAME:PST
DTSTART:20261101T090000
END:STANDARD
END:VTIMEZONE
BEGIN:VEVENT
DTSTART;TZID=America/Los_Angeles:20250131T210000
DTEND;TZID=America/Los_Angeles:20250201T010000
DTSTAMP:20260422T014407
CREATED:20250106T151820Z
LAST-MODIFIED:20250106T151820Z
UID:849-1738357200-1738371600@tommydrock702.com
SUMMARY:Rock 702 Live - Rush Lounge\, Inside The Golden Nugget
DESCRIPTION:Join us on January 31st\, 2025 inside the Golden Nugget downtown\nLas Vegas for another fun evening at the Rush Lounge!
URL:https://tommydrock702.com/event/rock-702-live-rush-lounge-inside-the-golden-nugget/
LOCATION:The Golden Nugget\, 129 Fremont Street\, Las Vegas\, Nevada\, 89101
CATEGORIES:Live Music,Rock 702 Band
ATTACH;FMTTYPE=image/jpeg:https://tommydrock702.com/wp-content/uploads/2024/12/Rock702a-68BestOf-scaled.jpg
END:VEVENT
END:VCALENDAR