BEGIN:VCALENDAR
VERSION:2.0
PRODID:-//Rock 702 Band - ECPv6.15.18//NONSGML v1.0//EN
CALSCALE:GREGORIAN
METHOD:PUBLISH
X-ORIGINAL-URL:https://tommydrock702.com
X-WR-CALDESC:Events for Rock 702 Band
REFRESH-INTERVAL;VALUE=DURATION:PT1H
X-Robots-Tag:noindex
X-PUBLISHED-TTL:PT1H
BEGIN:VTIMEZONE
TZID:America/Los_Angeles
BEGIN:DAYLIGHT
TZOFFSETFROM:-0800
TZOFFSETTO:-0700
TZNAME:PDT
DTSTART:20230312T100000
END:DAYLIGHT
BEGIN:STANDARD
TZOFFSETFROM:-0700
TZOFFSETTO:-0800
TZNAME:PST
DTSTART:20231105T090000
END:STANDARD
BEGIN:DAYLIGHT
TZOFFSETFROM:-0800
TZOFFSETTO:-0700
TZNAME:PDT
DTSTART:20240310T100000
END:DAYLIGHT
BEGIN:STANDARD
TZOFFSETFROM:-0700
TZOFFSETTO:-0800
TZNAME:PST
DTSTART:20241103T090000
END:STANDARD
BEGIN:DAYLIGHT
TZOFFSETFROM:-0800
TZOFFSETTO:-0700
TZNAME:PDT
DTSTART:20250309T100000
END:DAYLIGHT
BEGIN:STANDARD
TZOFFSETFROM:-0700
TZOFFSETTO:-0800
TZNAME:PST
DTSTART:20251102T090000
END:STANDARD
END:VTIMEZONE
BEGIN:VEVENT
DTSTART;TZID=America/Los_Angeles:20241123T203000
DTEND;TZID=America/Los_Angeles:20241124T000000
DTSTAMP:20260422T092353
CREATED:20241029T204528Z
LAST-MODIFIED:20241029T204528Z
UID:826-1732393800-1732406400@tommydrock702.com
SUMMARY:Rock 702 - Saturday\, November 23rd At The AMP'D Lounge - M Resort
DESCRIPTION:Rock 702 will be performing at the AMP’D Lounge inside The M Resort on\nSaturday\, November 23rd\,  8:30 pm – 12 pm!
URL:https://tommydrock702.com/event/rock-702-saturday-november-23rd-at-the-ampd-lounge-m-resort/
LOCATION:M Resort\, 12300 Las Vegas Blvd South\, Henderson\, Nevada\, 89044
CATEGORIES:Live Music,Rock 702 Band
ATTACH;FMTTYPE=image/webp:https://tommydrock702.com/wp-content/uploads/2024/04/626eb86aa5084596bd9689d5863a4bd0.webp
END:VEVENT
END:VCALENDAR